BEGIN:VCALENDAR
VERSION:2.0
PRODID:-//wp-events-plugin.com//7.2.2.1//EN
TZID:Asia/Tokyo
X-WR-TIMEZONE:Asia/Tokyo
BEGIN:VEVENT
UID:1096@maedakazuaki.com
DTSTART;TZID=Asia/Tokyo;VALUE=DATE:20260504
DTEND;TZID=Asia/Tokyo;VALUE=DATE:20260505
DTSTAMP:20260407T082908Z
URL:https://maedakazuaki.com/events/%e5%b1%b1%e5%bd%a2-%e3%82%b3%e3%83%bc%
 e3%83%92%e3%83%bc%e3%83%89%e3%83%aa%e3%83%83%e3%83%97-16
SUMMARY:山形 コーヒードリップ
DESCRIPTION:\n■5/4(月) 山形 コーヒードリップ\n「あなたと
 つくる、おしながき vol.1 ~本日のご注文は？リクエスト
 ライブ~」\n【場所】山形県東根市一本木１丁目２−１
 ０\n【開演】14:00\n【料金】投げ銭制(飲食代別)\n【出演
 】moco/前田和亮\n【ご予約】https://is.gd/yEaIGl
END:VEVENT
BEGIN:VTIMEZONE
TZID:Asia/Tokyo
X-LIC-LOCATION:Asia/Tokyo
BEGIN:STANDARD
DTSTART:20250504T000000
TZOFFSETFROM:+0900
TZOFFSETTO:+0900
TZNAME:JST
END:STANDARD
END:VTIMEZONE
END:VCALENDAR