BEGIN:VCALENDAR
VERSION:2.0
PRODID:-//wp-events-plugin.com//7.2.2.1//EN
TZID:Asia/Tokyo
X-WR-TIMEZONE:Asia/Tokyo
BEGIN:VEVENT
UID:1075@maedakazuaki.com
DTSTART;TZID=Asia/Tokyo;VALUE=DATE:20260309
DTEND;TZID=Asia/Tokyo;VALUE=DATE:20260310
DTSTAMP:20260226T112842Z
URL:https://maedakazuaki.com/events/%e5%a4%a7%e9%98%aa-%e7%9c%9f%e5%bf%83%
 e5%a0%b4-10
SUMMARY:大阪 真心場
DESCRIPTION:\n■3/9(月) 大阪 真心場\n真心場presents 3man live「
 流れる季節の真ん中で」\n【場所】大阪府大阪市中央区
 東心斎橋２丁目１−２２ エクセル千年町５F-B号\n【開
 場】18:30\n【開演】19:00\n【料金】adv.¥2500/door.¥3000(drink
 別)\n【出演】松本耕平/茉寿/前田和亮(19:50~)\n【ご予約
 】https://is.gd/wnAfCC\n【配信URL】https://twitcasting.tv/mahorobaliv
 e\n【投げ銭URL】https://is.gd/9HNohv\n※当日22:30まで受付可\n
 ※ご支援下さった方に、１週間のアーカイブが見れる
 合言葉をお送りします。\n※当日会場へご来場くださっ
 た方には、終演後合言葉をお教え致します。
END:VEVENT
BEGIN:VTIMEZONE
TZID:Asia/Tokyo
X-LIC-LOCATION:Asia/Tokyo
BEGIN:STANDARD
DTSTART:20250309T000000
TZOFFSETFROM:+0900
TZOFFSETTO:+0900
TZNAME:JST
END:STANDARD
END:VTIMEZONE
END:VCALENDAR