BEGIN:VCALENDAR
VERSION:2.0
PRODID:-//wp-events-plugin.com//7.2.2.1//EN
TZID:Asia/Tokyo
X-WR-TIMEZONE:Asia/Tokyo
BEGIN:VEVENT
UID:1107@maedakazuaki.com
DTSTART;TZID=Asia/Tokyo;VALUE=DATE:20260501
DTEND;TZID=Asia/Tokyo;VALUE=DATE:20260502
DTSTAMP:20260421T035207Z
URL:http://maedakazuaki.com/events/7966
SUMMARY:宮城 Live Bar PENNY LANE
DESCRIPTION:\n■5/1(金) 宮城 Live Bar PENNY LANE\n【場所】宮城県
 仙台市青葉区昭和町３−３８\n【開場】18:30\n【開演】19
 :00\n【料金】¥2\,000(drink別)\n【出演】Caroco/遠藤理子/前
 田和亮/and more...\n【ご予約】https://is.gd/TmyiPU
END:VEVENT
BEGIN:VTIMEZONE
TZID:Asia/Tokyo
X-LIC-LOCATION:Asia/Tokyo
BEGIN:STANDARD
DTSTART:20250501T000000
TZOFFSETFROM:+0900
TZOFFSETTO:+0900
TZNAME:JST
END:STANDARD
END:VTIMEZONE
END:VCALENDAR