BEGIN:VCALENDAR
VERSION:2.0
PRODID:-//wp-events-plugin.com//7.2.2.1//EN
TZID:Asia/Tokyo
X-WR-TIMEZONE:Asia/Tokyo
BEGIN:VEVENT
UID:1104@maedakazuaki.com
DTSTART;TZID=Asia/Tokyo;VALUE=DATE:20260505
DTEND;TZID=Asia/Tokyo;VALUE=DATE:20260506
DTSTAMP:20260417T005645Z
URL:http://maedakazuaki.com/events/%e7%a6%8f%e5%b3%b6-%e3%81%b2%e3%82%88%e
 3%81%93%e5%ba%a7-2
SUMMARY:福島 ひよこ座
DESCRIPTION:\n■5/5(火) 福島 ひよこ座\n「ひよこのしらべ」\
 n【場所】福島県喜多方市上三宮町吉川字井戸尻2999\n【
 開場】13:00\n【開演】13:30\n【料金】投げ銭制\n【出演】h
 oriken/moco/前田和亮\n【ご予約】https://is.gd/9XayYw
END:VEVENT
BEGIN:VTIMEZONE
TZID:Asia/Tokyo
X-LIC-LOCATION:Asia/Tokyo
BEGIN:STANDARD
DTSTART:20250505T000000
TZOFFSETFROM:+0900
TZOFFSETTO:+0900
TZNAME:JST
END:STANDARD
END:VTIMEZONE
END:VCALENDAR