BEGIN:VCALENDAR
VERSION:2.0
PRODID:-//wp-events-plugin.com//7.2.2.1//EN
TZID:Asia/Tokyo
X-WR-TIMEZONE:Asia/Tokyo
BEGIN:VEVENT
UID:192@maedakazuaki.com
DTSTART;TZID=Asia/Tokyo;VALUE=DATE:20180513
DTEND;TZID=Asia/Tokyo;VALUE=DATE:20180514
DTSTAMP:20180416T202545Z
URL:http://maedakazuaki.com/events/%e6%84%9b%e7%9f%a5-%e6%a0%84%e3%83%9f%e
 3%83%8a%e3%83%9f%e9%9f%b3%e6%a5%bd%e7%a5%ad2018
SUMMARY:愛知 栄ミナミ音楽祭2018
DESCRIPTION:■5/13(日)　愛知 栄ミナミ音楽祭2018\nhttp://sakaemi
 nami.jp/event/ongakusai/\n【場所】cafe Salut\n【時間】14:30～15:0
 0\n\n【場所】名駅ナナちゃんストリート\n【時間】17:30
 ～17:55
END:VEVENT
BEGIN:VTIMEZONE
TZID:Asia/Tokyo
X-LIC-LOCATION:Asia/Tokyo
BEGIN:STANDARD
DTSTART:20170513T000000
TZOFFSETFROM:+0900
TZOFFSETTO:+0900
TZNAME:JST
END:STANDARD
END:VTIMEZONE
END:VCALENDAR