BEGIN:VCALENDAR
VERSION:2.0
PRODID:-//wp-events-plugin.com//7.2.2.1//EN
TZID:Asia/Tokyo
X-WR-TIMEZONE:Asia/Tokyo
BEGIN:VEVENT
UID:1105@maedakazuaki.com
DTSTART;TZID=Asia/Tokyo;VALUE=DATE:20260506
DTEND;TZID=Asia/Tokyo;VALUE=DATE:20260507
DTSTAMP:20260417T010303Z
URL:http://maedakazuaki.com/events/%e5%ae%ae%e5%9f%8e-cocktail-bar-aquariu
 s-2
SUMMARY:宮城 Cocktail Bar AQUARIUS
DESCRIPTION:\n■5/6(水) 宮城 Cocktail Bar AQUARIUS\n「Cross Over vol.4
  ~Draw&amp\;Play~」\n【場所】宮城県仙台市青葉区国分町1丁
 目6-1 ルナパーク一番町ビル 4F\n【開場】18:00\n【開演】1
 8:30\n【料金】¥3\,000(drink別)\n【出演】渡邉華奈/前田和
 亮\n【ご予約】https://is.gd/LbjVxp
END:VEVENT
BEGIN:VTIMEZONE
TZID:Asia/Tokyo
X-LIC-LOCATION:Asia/Tokyo
BEGIN:STANDARD
DTSTART:20250506T000000
TZOFFSETFROM:+0900
TZOFFSETTO:+0900
TZNAME:JST
END:STANDARD
END:VTIMEZONE
END:VCALENDAR